BEGIN:VCALENDAR
VERSION:2.0
PRODID:-//rcohiovalley.org//eCatholic//EN
X-WR-TIMEZONE:LocalTZ
BEGIN:VTIMEZONE
TZID:LocalTZ
X-LIC-LOCATION:LocalTZ
BEGIN:DAYLIGHT
TZOFFSETFROM:-0500
TZOFFSETTO:-0400
TZNAME:LocalTZ
DTSTART:19700308T020000
RRULE:FREQ=YEARLY;BYMONTH=3;BYDAY=2SU
END:DAYLIGHT
BEGIN:STANDARD
TZOFFSETFROM:-0400
TZOFFSETTO:-0500
TZNAME:LocalTZ
DTSTART:19701101T020000
RRULE:FREQ=YEARLY;BYMONTH=11;BYDAY=1SU
END:STANDARD
END:VTIMEZONE
BEGIN:VEVENT
UID:1877288@rcohiovalley.org
DTSTAMP:20260423T025241Z
DTSTART;VALUE=DATE:20260613
DTEND;VALUE=DATE:20260614
RRULE:FREQ=MONTHLY;BYDAY=SA;BYSETPOS=2
EXDATE:20220813T000000,20220910T000000,20230408T000000,20250913T000000,202
 51011T000000,20251108T000000,20251213T000000,20260110T000000,20260214T0000
 00,20260314T000000,20260411T000000,20260509T000000
SUMMARY:Spiritual Director Formation
END:VEVENT
BEGIN:VEVENT
UID:2245292@rcohiovalley.org
DTSTAMP:20260423T025241Z
DTSTART:20260520T181500
DTEND:20260520T204500
RRULE:FREQ=MONTHLY;UNTIL=20301218;BYDAY=WE;BYSETPOS=3
EXDATE:20250716T181500,20250820T181500
SUMMARY:Cincinnati Men's Monthly Retreat
DESCRIPTION:Cincinnati Area Men's Evening of Reflection. Join us for Mass\
 , Dinner\, Fellowship and a Talk.
END:VEVENT
BEGIN:VEVENT
UID:2803522@rcohiovalley.org
DTSTAMP:20260423T025241Z
DTSTART:20260423T170000
DTEND:20260426T130000
SUMMARY:RC Women's Triduum of Renewal at Maria Stein
DESCRIPTION:This retreat is for women members of Regnum Christi only.   Th
 e retreat fee includes meals\, towels\, linens and private facilities in e
 ach room.  They are unable to accommodate special diets (refrigerator avai
 lable).  Retreat ends after lunch on Sunday.
END:VEVENT
BEGIN:VEVENT
UID:2886775@rcohiovalley.org
DTSTAMP:20260423T025241Z
DTSTART;VALUE=DATE:20260509
DTEND;VALUE=DATE:20260510
SUMMARY:Spiritual Director Formation
DESCRIPTION:25 Rules of Spiritual Warfare from Jesus to Faustina
END:VEVENT
BEGIN:VEVENT
UID:2854890@rcohiovalley.org
DTSTAMP:20260423T025241Z
DTSTART:20260513T180000
DTEND:20260513T203000
SUMMARY:Women's Evening of Reflection Monthly Retreat - Greater Cincinnati
DESCRIPTION:May retreat will be at Our Lady of the Holy Spirit Center in N
 orwood\, Ohio.  Theme for May Retreat:  Leisure Time - Slowing Down to Sha
 re God's Love.  The retreat will begin with Fellowship at 6:00 p.m.\, and 
 a formation talk.  We will celebrate Mass at 7:45 p.m. The evening ends wi
 th closing prayer at 8:30.
END:VEVENT
BEGIN:VEVENT
UID:3007419@rcohiovalley.org
DTSTAMP:20260423T025241Z
DTSTART;VALUE=DATE:20260515
DTEND;VALUE=DATE:20260518
SUMMARY:Men’s Spiritual Exercises - Peebles\, OH
DESCRIPTION:This 3 day silent “Spiritual Exercise/Retreat” follows the met
 hods and principles of St. Ignatius of Loyola. Includes meditations\, conf
 erences\, Mass\, confession\, spiritual direction and personal prayer.  Re
 treat master is Fr Dean Stasell\, LC. Cost $210. Location: Our Lady of Gua
 dalupe Discipleship Center. Peebles\, OH. Registration now open. \n
END:VEVENT
BEGIN:VEVENT
UID:2845735@rcohiovalley.org
DTSTAMP:20260423T025241Z
DTSTART;VALUE=DATE:20260607
DTEND;VALUE=DATE:20260613
SUMMARY:ECYD Girls Challenge Camp
DESCRIPTION:ECYD Girls Challenge summer camps are an amazing combination o
 f faith\, friendship\, and LOTS of fun!  \n This one is for 6th-8th grade 
 girls.  There is daily prayer and mass\, swimming\, small group sessions\,
  team building activities\, outdoor activities\, and indoor craft time. Bo
 nfires\, creeking\, and horseback riding are also included during the week
 . // Click title to register.
END:VEVENT
BEGIN:VEVENT
UID:2854902@rcohiovalley.org
DTSTAMP:20260423T025241Z
DTSTART:20260610T180000
DTEND:20260610T203000
SUMMARY:Women's Evening of Reflection Monthly Retreat - Greater Cincinnati
DESCRIPTION:June POTLUCK will be at St Joseph Catholic Church in Cold Spri
 ng\, Kentucky!  Learning from Martha:  Hospitality is More than Potluck an
 d Sunday Donuts!  The retreat will begin with Fellowship at 6:00 p.m.  We 
 will celebrate Mass at 7:45 p.m. The evening ends with closing prayer at 8
 :30.
END:VEVENT
BEGIN:VEVENT
UID:2845739@rcohiovalley.org
DTSTAMP:20260423T025241Z
DTSTART;VALUE=DATE:20260615
DTEND;VALUE=DATE:20260618
SUMMARY:ECYD Girls 5th Grade Camp
DESCRIPTION:ECYD Girls Adventure Camp for rising 5th grade girls offers Ga
 mes & Crafts\, Lake Time (swimming & slip n’ slide)\, Mass & Daily Prayers
 \, Team Building Activities\, Bonfires\, Faith Themed Workshops\, Small Gr
 oup Time Night Activities\, Adoration AND LOTS MORE FUN!  // Click title t
 o register.
END:VEVENT
BEGIN:VEVENT
UID:2845742@rcohiovalley.org
DTSTAMP:20260423T025241Z
DTSTART;VALUE=DATE:20260622
DTEND;VALUE=DATE:20260626
SUMMARY:Camp Arise
DESCRIPTION:Camp Arise ECYD Camp is a faith-based\, experiential\, and ser
 vice oriented opportunity for rising 9th grade girls & new team leaders.  
  Activities include small group & team building activities\, workshops\, d
 aily mass & prayer experiences\,  service projects\, kayaking\, and LOTS o
 f FUN!  // Click title to register.
END:VEVENT
BEGIN:VEVENT
UID:3023875@rcohiovalley.org
DTSTAMP:20260423T025241Z
DTSTART;VALUE=DATE:20260821
DTEND;VALUE=DATE:20260824
SUMMARY:Men's Outdoor Retreat 2026
DESCRIPTION:YOUR OUTDOOR CATHOLIC RETREAT EXPERIENCE AT CAMP RIVER RIDGE. 
 Included are Mass\, adoration\, confession\, community prayer\, relaxation
  and outdoor activities\, plenty of fresh air\, good food/drinks\, bonfire
 s\, and good ol fellowship. Arrival time about Friday at 5 PM with festivi
 ties wrapping up on Sunday at 1 PM. REGISTRATION NOW OPEN!
END:VEVENT
END:VCALENDAR
